BEGIN:VCALENDAR
VERSION:2.0
METHOD:PUBLISH
X-WR-CALNAME:InterRidge :: International Cooperation in Ridge-Crest Studies |  April 25 2013- Mai 25 2013
PRODID:-//strange bird labs//Drupal iCal API//EN
BEGIN:VEVENT
DTSTAMP;VALUE=DATE-TIME:20260219T035930Z
DTSTART;VALUE=DATE-TIME:20130515T063000Z
DTEND;VALUE=DATE-TIME:20130517T063000Z
UID:http://194.254.225.67/de/node/16881
URL;VALUE=URI:http://194.254.225.67/de/node/16881
SUMMARY:The Scotia Arc\: Geodynamic Evolution and Global Implications\, Granada\, Spain
DESCRIPTION:<p><a href=\\"http\://www.interridge.org/files/interridge/Conference_flier_A4v3.pdf\\">Flyer</a></p>
 
END:VEVENT
BEGIN:VEVENT
DTSTAMP;VALUE=DATE-TIME:20260219T035930Z
DTSTART;VALUE=DATE-TIME:20130523T065500Z
DTEND;VALUE=DATE-TIME:20020203
UID:http://194.254.225.67/de/node/17034
URL;VALUE=URI:http://194.254.225.67/de/node/17034
SUMMARY:Southern Ocean Observing System (SOOS) Asian workshop\, Shanghai\, China
DESCRIPTION:<p>The objective of the SOOS workshop is to highlight the activities of Asian countries currently involved in Southern Ocean research relevant to the SOOS science strategy and to stimulate discussion and foster involvement by Asian countries in SOOS.</p>
 <p>Registration deadline\: 23 April 2013.<br />
 <a href=\\"/files/interridge/SOOS_AsianWS_Prospectus-1.pdf\\">Details</a></p>
 
END:VEVENT
END:VCALENDAR
