BEGIN:VCALENDAR
VERSION:2.0
METHOD:PUBLISH
X-WR-CALNAME:InterRidge :: International Cooperation in Ridge-Crest Studies |  September 07 2008- October 07 2008
PRODID:-//strange bird labs//Drupal iCal API//EN
BEGIN:VEVENT
DTSTAMP;VALUE=DATE-TIME:20260303T144012Z
DTSTART;VALUE=DATE-TIME:20080910T100000Z
DTEND;VALUE=DATE-TIME:20080912T170000Z
UID:http://194.254.225.67/node/5610
URL;VALUE=URI:http://194.254.225.67/node/5610
SUMMARY:Lithospheric heterogeneities\, hydrothermal regimes\, and links between abiotic and biotic processes at slow spreading ridges
DESCRIPTION:<p><strong>Lithospheric heterogeneities\, hydrothermal regimes\, and links between abiotic and biotic processes at slow spreading ridges</strong><br />
 International Workshop on Marine Research Drilling in the Atlantic (Magellan Workshop Series)<br />
 10-12 September 2008\; Montpellier\, France (Participation by invitation only)</p>
 <p>Conveners\: Marguerite Godard (Université Montpellier 2)\, Gretchen Früh-Green (ETH Zurich)\, and Christopher MacLeod (Cardiff University)</p>
 
END:VEVENT
BEGIN:VEVENT
DTSTAMP;VALUE=DATE-TIME:20260303T144012Z
DTSTART;VALUE=DATE-TIME:20080915T130000Z
DTEND;VALUE=DATE-TIME:20080918T130000Z
UID:http://194.254.225.67/node/5446
URL;VALUE=URI:http://194.254.225.67/node/5446
SUMMARY:Oceans '08 MTS/IEEE\, Quebec City\, Canada
DESCRIPTION:<p><a href=\\"http\://www.oceans08mtsieeequebec.org/\\" title=\\"http\://www.oceans08mtsieeequebec.org/\\">http\://www.oceans08mtsieeequebec.org/</a><br />
 Final Program now available!</p>
 <p>In September 2008\, the prestigious Oceans conference and exhibition comes to Quebec City\, Canada. Oceans ’08 will coincide with the 400th anniversary of Quebec\, a jewel of the World Heritage famous for its gastronomy and joie de vivre. Oceans ’08 will also happen at the pinnacle of the 4th International Polar Year (2007-2009) that focuses on the rapidly changing Polar Oceans.</p>
 
END:VEVENT
END:VCALENDAR
