BEGIN:VCALENDAR
VERSION:2.0
METHOD:PUBLISH
X-WR-CALNAME:InterRidge :: International Cooperation in Ridge-Crest Studies |  February 07 2011- February 14 2011
PRODID:-//strange bird labs//Drupal iCal API//EN
BEGIN:VEVENT
DTSTAMP;VALUE=DATE-TIME:20260222T001855Z
DTSTART;VALUE=DATE-TIME:20110212T003000Z
DTEND;VALUE=DATE-TIME:20110217T173000Z
UID:http://194.254.225.67/node/6205
URL;VALUE=URI:http://194.254.225.67/node/6205
SUMMARY:ASLO 2011\, Puerto Rico
DESCRIPTION:<p>&nbsp\;</p>
 <p>ASLO -S55\: Microbial Carbon Pump\: A multidisciplinary focus on origins\, cycling and storage of DOM in the ocean</p>
 <p>Deadline for abstract submission\: 11 Oct 2010.</p>
 <p>Convenors\: Dr. Nianzhi (George) JIAO (<a href=\\"mailto\:jiao@xmu.edu.cn\\">jiao@xmu.edu.cn</a>)\, Gerhard Kattner (<a href=\\"mailto\:Gerhard.Kattner@awi.de\\">Gerhard.Kattner@awi.de</a>)\; Farooq Azam\, (<a href=\\"mailto\:fazam@ucsd.edu\\">fazam@ucsd.edu</a>)\; Steven Wilhelm\, (<a href=\\"mailto\:wilhelm@utk.edu\\">wilhelm@utk.edu</a>)</p>
 
END:VEVENT
END:VCALENDAR
