BEGIN:VCALENDAR
VERSION:2.0
METHOD:PUBLISH
X-WR-CALNAME:InterRidge :: International Cooperation in Ridge-Crest Studies |  September 28 2015- October 05 2015
PRODID:-//strange bird labs//Drupal iCal API//EN
BEGIN:VEVENT
DTSTAMP;VALUE=DATE-TIME:20260219T221756Z
DTSTART;VALUE=DATE-TIME:20150928T210200Z
DTEND;VALUE=DATE-TIME:20150930T110200Z
UID:http://194.254.225.67/node/17210
URL;VALUE=URI:http://194.254.225.67/node/17210
SUMMARY:The Asia-Pacific Deep Sea Mining Summit 2015
DESCRIPTION:<p><a href=\\"http\://www.asia.deepsea-mining-summit.com/\\" title=\\"http\://www.asia.deepsea-mining-summit.com/\\">http\://www.asia.deepsea-mining-summit.com/</a></p>
 
END:VEVENT
BEGIN:VEVENT
DTSTAMP;VALUE=DATE-TIME:20260219T221756Z
DTSTART;VALUE=DATE-TIME:20150928T210200Z
DTEND;VALUE=DATE-TIME:20150930T110200Z
UID:http://194.254.225.67/node/17209
URL;VALUE=URI:http://194.254.225.67/node/17209
SUMMARY:The Asia-Pacific Deep Sea Mining Summit 2015
DESCRIPTION:<p>Key topics for 2015\:<br />
 The economic landscape and drivers for growth in deep sea mining<br />
 Understand the key market drivers and growth prospects for the near term. Where are the opportunities?<br />
 Achieving sustainable seabed mining projects in harmony with nature<br />
 Hear from frontline deep sea ecological experts on the latest techniques to build an environmental impact assessment plan<br />
 New exploration and mining projects underway\, the latest frontline feedback<br />
 Explore new areas of economic value and be the first to hear about the latest methods and results from commercial activities</p>
 
END:VEVENT
END:VCALENDAR
