BEGIN:VCALENDAR
VERSION:2.0
METHOD:PUBLISH
X-WR-CALNAME:InterRidge :: International Cooperation in Ridge-Crest Studies |  juin 01 2010- juillet 01 2010
PRODID:-//strange bird labs//Drupal iCal API//EN
BEGIN:VEVENT
DTSTAMP;VALUE=DATE-TIME:20260223T011404Z
DTSTART;VALUE=DATE-TIME:20100531T230000Z
DTEND;VALUE=DATE-TIME:20100604T160000Z
UID:http://194.254.225.67/fr/node/5951
URL;VALUE=URI:http://194.254.225.67/fr/node/5951
SUMMARY:MPA Workshop - Design of Marine Protected Areas for Chemosynthetic Ecosystems
DESCRIPTION:<p>IR co-sponsored workshop\: Design of Marine Protected Areas for Chemosynthetic Ecosystems Potentially Threatened by Human Activities in the Deep Sea<br />
 1-4 June 2010<br />
 CRESCO\, Dinard\, France</p>
 
END:VEVENT
BEGIN:VEVENT
DTSTAMP;VALUE=DATE-TIME:20260223T011404Z
DTSTART;VALUE=DATE-TIME:20100603T003000Z
DTEND;VALUE=DATE-TIME:20100605T173000Z
UID:http://194.254.225.67/fr/node/6007
URL;VALUE=URI:http://194.254.225.67/fr/node/6007
SUMMARY:The Mohole\: a Crustal Journey and Mantle Quest
DESCRIPTION:<p style=\\"margin\: 0.0px 0.0px 0.0px 0.0px\; font\: 11.0px Times New Roman\;\\"><span style=\\"font-family\: Arial\, Arial\, Helvetica\, sans-serif\;\\"><span style=\\"font-family\: Verdana\; font-size\: small\;\\"><span style=\\"font-size\: 13px\;\\">Workshop participants will begin developing a roadmap for the technology development and the project&nbsp\;implementation plan that are necessary to achieve our deep drilling objectives.</span></span></span></p>
 
END:VEVENT
BEGIN:VEVENT
DTSTAMP;VALUE=DATE-TIME:20260223T011404Z
DTSTART;VALUE=DATE-TIME:20100607T080000Z
DTEND;VALUE=DATE-TIME:20100611T180000Z
UID:http://194.254.225.67/fr/node/5956
URL;VALUE=URI:http://194.254.225.67/fr/node/5956
SUMMARY:12th Deep-Sea Biology Symposium\, Reykjavik\, Iceland
DESCRIPTION:<p>At the 11th Deep-sea Biology Symposium held in Southampton\, Goa in India was selected as the site for the 12th Deep-sea Biology Symposium. Due to unexpected difficulties in India it was decided to move the symposium to Iceland\, where it will be hosted by the University of Iceland. The convener is Professor Jörundur Svavarsson\, University of Iceland.</p>
 
END:VEVENT
BEGIN:VEVENT
DTSTAMP;VALUE=DATE-TIME:20260223T011404Z
DTSTART;VALUE=DATE-TIME:20100613T003000Z
DTEND;VALUE=DATE-TIME:20100618T173000Z
UID:http://194.254.225.67/fr/event/goldschmidt
URL;VALUE=URI:http://194.254.225.67/fr/event/goldschmidt
SUMMARY:2010 Goldschmidt Conference\, Knoxville\, Tennessee\, USA
DESCRIPTION:<p>June 13-18\, 2010</p>
 <p>Registration and abstract submittal now open at\:<a title=\\"Goldschmidt 2010\\" href=\\"http\://www.goldschmidt2010.org/\\">http\://www.goldschmidt2010.org/</a></p>
 <p>Abstract submission deadline\: February 21st\, 2010</p>
 <p>Early registration deadline\: April 16th\, 2010</p>
 <p>The 2010 Goldschmidt Conference will focus on \\"Earth\, Energy\, and the Environment.\\"  The organizing committee has identified twenty theme areas\, and are now accepting proposals for sessions within each theme.  The following are of particular interest to the InterRidge community\:</p>
 
END:VEVENT
BEGIN:VEVENT
DTSTAMP;VALUE=DATE-TIME:20260223T011404Z
DTSTART;VALUE=DATE-TIME:20100615T080000Z
DTEND;VALUE=DATE-TIME:20100615T080000Z
UID:http://194.254.225.67/fr/node/6038
URL;VALUE=URI:http://194.254.225.67/fr/node/6038
SUMMARY:Marine Biodiscovery\: Research and Applications\; Aberdeen\, Scotland
DESCRIPTION:<p>
END:VEVENT
BEGIN:VEVENT
DTSTAMP;VALUE=DATE-TIME:20260223T011404Z
DTSTART;VALUE=DATE-TIME:20100622T003000Z
DTEND;VALUE=DATE-TIME:20100625T173000Z
UID:http://194.254.225.67/fr/node/5908
URL;VALUE=URI:http://194.254.225.67/fr/node/5908
SUMMARY:2010 Western Pacific Geophysics Meeting
DESCRIPTION:<p>2010 Western Pacific Geophysics Meeting<br />
 22–25 June 2010<br />
 Taipei\, Taiwan<br />
 <a href=\\"http\://www.agu.org/meetings/wp10/\\" title=\\"http\://www.agu.org/meetings/wp10/\\">http\://www.agu.org/meetings/wp10/</a><br />
 Abstract Deadline\: 25 Feb. 2010<br />
 Registration will open January 2010</p>
 <p>The Western Pacific Geophysics Meeting (WPGM) provides an opportunity for AGU members and members of the sponsoring societies in the western Pacific region\, to attend a meeting that serves the needs of geophysicists interested in studies in the western Pacific region. Papers on all related aspects of geophysical sciences are encouraged.</p>
 
END:VEVENT
BEGIN:VEVENT
DTSTAMP;VALUE=DATE-TIME:20260223T011404Z
DTSTART;VALUE=DATE-TIME:20100628T003000Z
DTEND;VALUE=DATE-TIME:20100630T173000Z
UID:http://194.254.225.67/fr/node/5896
URL;VALUE=URI:http://194.254.225.67/fr/node/5896
SUMMARY:Long-Range Exploration Workshop\, Southampton\, UK
DESCRIPTION:<p>Registration will open beginning of May 2010.</p>
 
END:VEVENT
BEGIN:VEVENT
DTSTAMP;VALUE=DATE-TIME:20260223T011404Z
DTSTART;VALUE=DATE-TIME:20100628T003000Z
DTEND;VALUE=DATE-TIME:20100702T163000Z
UID:http://194.254.225.67/fr/event/stpetersburg
URL;VALUE=URI:http://194.254.225.67/fr/event/stpetersburg
SUMMARY:Joint \\"Minerals of the Ocean-5\\" and \\"Deep-Sea Minerals and Mining-2 (DSMM-2)\\"  St.Petersburg\, Russia
DESCRIPTION:<p>Due to the strong increase in demand for metallic raw materials the marine ocean floor deposits and their mineability are again in the centre of interest of many international marine geology\, technology and raw materials experts as well as state agencies and mining companies. </p>
 
END:VEVENT
END:VCALENDAR
