BEGIN:VCALENDAR
VERSION:2.0
METHOD:PUBLISH
X-WR-CALNAME:InterRidge :: International Cooperation in Ridge-Crest Studies |  сентября 05 2010- октября 05 2010
PRODID:-//strange bird labs//Drupal iCal API//EN
BEGIN:VEVENT
DTSTAMP;VALUE=DATE-TIME:20260316T101857Z
DTSTART;VALUE=DATE-TIME:20100906T003000Z
DTEND;VALUE=DATE-TIME:20100909T173000Z
UID:http://194.254.225.67/ru/node/6006
URL;VALUE=URI:http://194.254.225.67/ru/node/6006
SUMMARY:14th Biennial Challenger Society Conference on Marine Science\, Southampton\, UK.
DESCRIPTION:<p>&nbsp\;</p>
 <p class=\\"MsoNormal\\">The conference will address the major marine science issues of the day under the overarching theme<strong style=\\"mso-bidi-font-weight\: normal\;\\">\\"Ocean Challenges in the 21st Century\\"</strong></p>
 <p class=\\"MsoNormal\\">Deadline for&nbsp\;Abstract submission\: Friday 21st May 2010.</p>
 <p class=\\"MsoNormal\\"><span lang=\\"EN-US\\">Late registration fee of £50 applies after Friday 21st May 2010.</span></p>
 
END:VEVENT
BEGIN:VEVENT
DTSTAMP;VALUE=DATE-TIME:20260316T101857Z
DTSTART;VALUE=DATE-TIME:20100909T003000Z
DTEND;VALUE=DATE-TIME:20100911T173000Z
UID:http://194.254.225.67/ru/node/6037
URL;VALUE=URI:http://194.254.225.67/ru/node/6037
SUMMARY:Three-day fieldtrip\: The Northern Apennine ophiolites\; based in Pisa\, Italy
DESCRIPTION:<div>Fieldtrip and science meeting within in the framework of the 85th Italian Geological Society Meeting</div>
 <div>(Field leaders\: Luca Pandolfi\, Riccardo Tribuzio\, Michele Marroni and Alessandra Montanini).</div>
 
END:VEVENT
BEGIN:VEVENT
DTSTAMP;VALUE=DATE-TIME:20260316T101857Z
DTSTART;VALUE=DATE-TIME:20101004T003000Z
DTEND;VALUE=DATE-TIME:20101009T163000Z
UID:http://194.254.225.67/ru/node/5830
URL;VALUE=URI:http://194.254.225.67/ru/node/5830
SUMMARY:Underwater Mining Institute 2010\: Toward the Sustainable Development of Marine Minerals
DESCRIPTION:<p>Venue\: State Scientific Centre\, Yuzhmorgeologiya Gelendzhik\, Russia</p>
 <p><a href=\\"http\://www.underwatermining.org/\\" title=\\"http\://www.underwatermining.org/\\">http\://www.underwatermining.org/</a></p>
 <p>Call for presentations open until 31st May\, 2010</p>
 <p>Registration deadline\: 31st July 2010</p>
 <p>The Underwater Mining Institute is seeking presentations focused on the following topics\:</p>
 <p>Ferromanganese Deposits<br />Marine Massive Sulfide Deposits<br />Advanced Technologies<br />Economic Challenges<br />Other Relevant Topics of Timely Interest</p>
 
END:VEVENT
END:VCALENDAR
