BEGIN:VCALENDAR
VERSION:2.0
METHOD:PUBLISH
X-WR-CALNAME:InterRidge :: International Cooperation in Ridge-Crest Studies |  декабря 09 2014- января 08 2015
PRODID:-//strange bird labs//Drupal iCal API//EN
BEGIN:VEVENT
DTSTAMP;VALUE=DATE-TIME:20260223T110018Z
DTSTART;VALUE=DATE-TIME:20141215T150000Z
DTEND;VALUE=DATE-TIME:20141220T010000Z
UID:http://194.254.225.67/ru/node/17157
URL;VALUE=URI:http://194.254.225.67/ru/node/17157
SUMMARY:AGU Fall meeing 2014
END:VEVENT
END:VCALENDAR
